BEGIN:VCALENDAR
VERSION:2.0
PRODID:-//Laurel Recovery  |   368 Main Street Laurel Maryland 20707 - ECPv6.15.20//NONSGML v1.0//EN
CALSCALE:GREGORIAN
METHOD:PUBLISH
X-ORIGINAL-URL:https://laurelrecovery.org
X-WR-CALDESC:Events for Laurel Recovery  |   368 Main Street Laurel Maryland 20707
REFRESH-INTERVAL;VALUE=DURATION:PT1H
X-Robots-Tag:noindex
X-PUBLISHED-TTL:PT1H
BEGIN:VTIMEZONE
TZID:UTC
BEGIN:STANDARD
TZOFFSETFROM:+0000
TZOFFSETTO:+0000
TZNAME:UTC
DTSTART:20250101T000000
END:STANDARD
END:VTIMEZONE
BEGIN:VEVENT
DTSTART;VALUE=DATE:20260130
DTEND;VALUE=DATE:20260202
DTSTAMP:20260423T233550
CREATED:20250806T001812Z
LAST-MODIFIED:20250926T170510Z
UID:8179-1769731200-1769990399@laurelrecovery.org
SUMMARY:2026 Footprints In The Winter Sand
DESCRIPTION:Footprints In The Winter Sand\n\nWe are excited to announce that Footprints In The Winter Sand will be held at the amazing Hyatt Regency Chesapeake Bay Resort and Spa \nJanuary 30th ~ February 1st 2026. \n  \nOnline Registration Ticket Sales will begin Monday\, September 15th 2025 \n Limited Tickets Available | Online Registration Only \nhttps://footprintsinthewintersand.com/event-info \nReserve Hyatt Regency rooms at any time through the Footprints Hyatt web page.
URL:https://laurelrecovery.org/event/2026-footprints-online-registration-monday-september-15th-2025/
LOCATION:Hyatt Regency Chesapeake Bay Resort and Spa\, 100 Heron Boulevard\, Cambridge\, 21613\, United States
CATEGORIES:Annual Events,Retreats,Sober Fun,Workshop
END:VEVENT
END:VCALENDAR