BEGIN:VCALENDAR
VERSION:2.0
PRODID:-//Laurel Recovery  |   368 Main Street Laurel Maryland 20707 - ECPv6.15.20//NONSGML v1.0//EN
CALSCALE:GREGORIAN
METHOD:PUBLISH
X-WR-CALNAME:Laurel Recovery  |   368 Main Street Laurel Maryland 20707
X-ORIGINAL-URL:https://laurelrecovery.org
X-WR-CALDESC:Events for Laurel Recovery  |   368 Main Street Laurel Maryland 20707
REFRESH-INTERVAL;VALUE=DURATION:PT1H
X-Robots-Tag:noindex
X-PUBLISHED-TTL:PT1H
BEGIN:VTIMEZONE
TZID:UTC
BEGIN:STANDARD
TZOFFSETFROM:+0000
TZOFFSETTO:+0000
TZNAME:UTC
DTSTART:20250101T000000
END:STANDARD
END:VTIMEZONE
BEGIN:VEVENT
DTSTART;TZID=UTC:20260815T100000
DTEND;TZID=UTC:20260815T110000
DTSTAMP:20260423T234929
CREATED:20251208T180950Z
LAST-MODIFIED:20251208T180950Z
UID:8461-1786788000-1786791600@laurelrecovery.org
SUMMARY:August Service Committee Meeting
DESCRIPTION:Service Committee Meeting\nAll are welcomed to attend. Secretaries are encouraged to attend and have a vote. \nWill Be Held at\nLaurel Recovery | 368 Main Street Laurel Maryland 20707
URL:https://laurelrecovery.org/event/august-service-committee-meeting/
LOCATION:Laurel Recovery\, 368 Main Street\, Laurel\, MD\, 20707\, United States
CATEGORIES:Service Committee Meeting's
END:VEVENT
END:VCALENDAR