BEGIN:VCALENDAR
VERSION:2.0
PRODID:-//Laurel Recovery  |   368 Main Street Laurel Maryland 20707 - ECPv6.15.20//NONSGML v1.0//EN
CALSCALE:GREGORIAN
METHOD:PUBLISH
X-WR-CALNAME:Laurel Recovery  |   368 Main Street Laurel Maryland 20707
X-ORIGINAL-URL:https://laurelrecovery.org
X-WR-CALDESC:Events for Laurel Recovery  |   368 Main Street Laurel Maryland 20707
REFRESH-INTERVAL;VALUE=DURATION:PT1H
X-Robots-Tag:noindex
X-PUBLISHED-TTL:PT1H
BEGIN:VTIMEZONE
TZID:UTC
BEGIN:STANDARD
TZOFFSETFROM:+0000
TZOFFSETTO:+0000
TZNAME:UTC
DTSTART:20250101T000000
END:STANDARD
END:VTIMEZONE
BEGIN:VEVENT
DTSTART;TZID=UTC:20260321T100000
DTEND;TZID=UTC:20260321T110000
DTSTAMP:20260423T172332
CREATED:20251208T180754Z
LAST-MODIFIED:20260226T144848Z
UID:8451-1774087200-1774090800@laurelrecovery.org
SUMMARY:March Service Committee Meeting
DESCRIPTION:Service Committee Meeting\nAll are welcomed to attend. Secretaries are encouraged to attend and have a vote. \nJoin Virtual Meeting below:\nhttps://us02web.zoom.us/j/83369156023?pwd=bnFhSnhQQmVpNzlYTkpEUk5qNTZKUT09\nMeeting ID: 833 6915 6023\nPasscode: ODAT2022 \n301-715-8592 Dial In\nMeeting ID: 833 6915 6023\nPasscode 19699472 \nIMPORTANT: The Laurel Recovery Service Committee will meet online until the meeting space is re-opened at 368 Main Street.
URL:https://laurelrecovery.org/event/march-service-committee-meeting/
LOCATION:Laurel Recovery\, 368 Main Street\, Laurel\, MD\, 20707\, United States
CATEGORIES:Service Committee Meeting's
END:VEVENT
END:VCALENDAR