BEGIN:VCALENDAR
VERSION:2.0
PRODID:-//Laurel Recovery  |   368 Main Street Laurel Maryland 20707 - ECPv6.15.20//NONSGML v1.0//EN
CALSCALE:GREGORIAN
METHOD:PUBLISH
X-WR-CALNAME:Laurel Recovery  |   368 Main Street Laurel Maryland 20707
X-ORIGINAL-URL:https://laurelrecovery.org
X-WR-CALDESC:Events for Laurel Recovery  |   368 Main Street Laurel Maryland 20707
REFRESH-INTERVAL;VALUE=DURATION:PT1H
X-Robots-Tag:noindex
X-PUBLISHED-TTL:PT1H
BEGIN:VTIMEZONE
TZID:UTC
BEGIN:STANDARD
TZOFFSETFROM:+0000
TZOFFSETTO:+0000
TZNAME:UTC
DTSTART:20250101T000000
END:STANDARD
END:VTIMEZONE
BEGIN:VEVENT
DTSTART;TZID=UTC:20260516T100000
DTEND;TZID=UTC:20260516T110000
DTSTAMP:20260423T103925
CREATED:20251208T180844Z
LAST-MODIFIED:20251208T180844Z
UID:8455-1778925600-1778929200@laurelrecovery.org
SUMMARY:May Service Committee Meeting
DESCRIPTION:Service Committee Meeting\nAll are welcomed to attend. Secretaries are encouraged to attend and have a vote. \nWill Be Held at\nLaurel Recovery | 368 Main Street Laurel Maryland 20707
URL:https://laurelrecovery.org/event/may-service-committee-meeting/
LOCATION:Laurel Recovery\, 368 Main Street\, Laurel\, MD\, 20707\, United States
CATEGORIES:Service Committee Meeting's
END:VEVENT
BEGIN:VEVENT
DTSTART;TZID=UTC:20260620T100000
DTEND;TZID=UTC:20260620T110000
DTSTAMP:20260423T103925
CREATED:20251208T180907Z
LAST-MODIFIED:20251208T180907Z
UID:8457-1781949600-1781953200@laurelrecovery.org
SUMMARY:June Service Committee Meeting
DESCRIPTION:Service Committee Meeting\nAll are welcomed to attend. Secretaries are encouraged to attend and have a vote. \nWill Be Held at\nLaurel Recovery | 368 Main Street Laurel Maryland 20707
URL:https://laurelrecovery.org/event/june-service-committee-meeting/
LOCATION:Laurel Recovery\, 368 Main Street\, Laurel\, MD\, 20707\, United States
CATEGORIES:Service Committee Meeting's
END:VEVENT
BEGIN:VEVENT
DTSTART;TZID=UTC:20260718T100000
DTEND;TZID=UTC:20260718T110000
DTSTAMP:20260423T103925
CREATED:20251208T180927Z
LAST-MODIFIED:20251208T180928Z
UID:8459-1784368800-1784372400@laurelrecovery.org
SUMMARY:July Service Committee Meeting
DESCRIPTION:Service Committee Meeting\nAll are welcomed to attend. Secretaries are encouraged to attend and have a vote. \nWill Be Held at\nLaurel Recovery | 368 Main Street Laurel Maryland 20707
URL:https://laurelrecovery.org/event/july-service-committee-meeting/
LOCATION:Laurel Recovery\, 368 Main Street\, Laurel\, MD\, 20707\, United States
CATEGORIES:Service Committee Meeting's
END:VEVENT
BEGIN:VEVENT
DTSTART;TZID=UTC:20260815T100000
DTEND;TZID=UTC:20260815T110000
DTSTAMP:20260423T103925
CREATED:20251208T180950Z
LAST-MODIFIED:20251208T180950Z
UID:8461-1786788000-1786791600@laurelrecovery.org
SUMMARY:August Service Committee Meeting
DESCRIPTION:Service Committee Meeting\nAll are welcomed to attend. Secretaries are encouraged to attend and have a vote. \nWill Be Held at\nLaurel Recovery | 368 Main Street Laurel Maryland 20707
URL:https://laurelrecovery.org/event/august-service-committee-meeting/
LOCATION:Laurel Recovery\, 368 Main Street\, Laurel\, MD\, 20707\, United States
CATEGORIES:Service Committee Meeting's
END:VEVENT
BEGIN:VEVENT
DTSTART;TZID=UTC:20260919T100000
DTEND;TZID=UTC:20260919T110000
DTSTAMP:20260423T103925
CREATED:20251208T181013Z
LAST-MODIFIED:20251208T181013Z
UID:8463-1789812000-1789815600@laurelrecovery.org
SUMMARY:September Service Committee Meeting
DESCRIPTION:Service Committee Meeting\nAll are welcomed to attend. Secretaries are encouraged to attend and have a vote. \nWill Be Held at\nLaurel Recovery | 368 Main Street Laurel Maryland 20707
URL:https://laurelrecovery.org/event/september-service-committee-meeting/
LOCATION:Laurel Recovery\, 368 Main Street\, Laurel\, MD\, 20707\, United States
CATEGORIES:Service Committee Meeting's
END:VEVENT
BEGIN:VEVENT
DTSTART;TZID=UTC:20261017T100000
DTEND;TZID=UTC:20261017T110000
DTSTAMP:20260423T103925
CREATED:20251208T181036Z
LAST-MODIFIED:20251208T181036Z
UID:8465-1792231200-1792234800@laurelrecovery.org
SUMMARY:October Service Committee Meeting
DESCRIPTION:Service Committee Meeting\nAll are welcomed to attend. Secretaries are encouraged to attend and have a vote. \nWill Be Held at\nLaurel Recovery | 368 Main Street Laurel Maryland 20707
URL:https://laurelrecovery.org/event/october-service-committee-meeting/
LOCATION:Laurel Recovery\, 368 Main Street\, Laurel\, MD\, 20707\, United States
CATEGORIES:Service Committee Meeting's
END:VEVENT
BEGIN:VEVENT
DTSTART;TZID=UTC:20261121T100000
DTEND;TZID=UTC:20261121T110000
DTSTAMP:20260423T103925
CREATED:20251208T181059Z
LAST-MODIFIED:20251208T181059Z
UID:8467-1795255200-1795258800@laurelrecovery.org
SUMMARY:November Service Committee Meeting
DESCRIPTION:Service Committee Meeting\nAll are welcomed to attend. Secretaries are encouraged to attend and have a vote. \nWill Be Held at\nLaurel Recovery | 368 Main Street Laurel Maryland 20707
URL:https://laurelrecovery.org/event/november-service-committee-meeting/
LOCATION:Laurel Recovery\, 368 Main Street\, Laurel\, MD\, 20707\, United States
CATEGORIES:Service Committee Meeting's
END:VEVENT
BEGIN:VEVENT
DTSTART;TZID=UTC:20261219T100000
DTEND;TZID=UTC:20261219T110000
DTSTAMP:20260423T103925
CREATED:20251208T181123Z
LAST-MODIFIED:20251208T181123Z
UID:8469-1797674400-1797678000@laurelrecovery.org
SUMMARY:December Service Committee Meeting
DESCRIPTION:Service Committee Meeting\nAll are welcomed to attend. Secretaries are encouraged to attend and have a vote. \nWill Be Held at\nLaurel Recovery | 368 Main Street Laurel Maryland 20707
URL:https://laurelrecovery.org/event/december-service-committee-meeting/
LOCATION:Laurel Recovery\, 368 Main Street\, Laurel\, MD\, 20707\, United States
CATEGORIES:Service Committee Meeting's
END:VEVENT
END:VCALENDAR